BEGIN:VCALENDAR
PRODID:-//Mozilla.org/NONSGML Mozilla Calendar V1.1//EN
VERSION:2.0
BEGIN:VEVENT
UID:69e8a7fd11d4d
DTSTAMP:20260422T105037Z
DTSTART:20260807T100000Z
DTEND:20260821T100000Z
SUMMARY:Book a demo
DESCRIPTION:Book a demo now to see how effortlessly you can get the media and content creators to remember your events. https://www.lookatmedia.co/book-a-demo
END:VEVENT
END:VCALENDAR